BEGIN:VCALENDAR
VERSION:2.0
PRODID:-//Class of 1977 - ECPv6.15.20//NONSGML v1.0//EN
CALSCALE:GREGORIAN
METHOD:PUBLISH
X-ORIGINAL-URL:https://mhc1977.org
X-WR-CALDESC:Events for Class of 1977
REFRESH-INTERVAL;VALUE=DURATION:PT1H
X-Robots-Tag:noindex
X-PUBLISHED-TTL:PT1H
BEGIN:VTIMEZONE
TZID:Asia/Dubai
BEGIN:STANDARD
TZOFFSETFROM:+0400
TZOFFSETTO:+0400
TZNAME:+04
DTSTART:20250101T000000
END:STANDARD
END:VTIMEZONE
BEGIN:VEVENT
DTSTART;TZID=Asia/Dubai:20260212T190000
DTEND;TZID=Asia/Dubai:20260212T203000
DTSTAMP:20260419T201210
CREATED:20260107T171125Z
LAST-MODIFIED:20260108T173814Z
UID:54980-1770922800-1770928200@mhc1977.org
SUMMARY:50th Reunion Planning Forum (Everyone Invited)
DESCRIPTION:Our Reunion chairs would like to offer an early opportunity to connect live as a class. To make it\neasier for classmates across time zones and schedules\, we will offer the same session at\ntwo different times. Please join whichever works best for you. These will be\nopportunities to see familiar faces\, share thoughts and ideas\, ask questions about reunion\nplanning or committee work\, and simply reconnect. \nJoin Zoom Meeting\nhttps://mtholyoke.zoom.us/j/96466294926?pwd=O3SqAyoP2wxyfaaos8ioiuNjqJacPV.1 \nMeeting ID: 964 6629 4926\nPasscode: 800991 \n— \nOne tap mobile\n+13017158592\,\,96466294926# US (Washington DC)\n+13052241968\,\,96466294926# US
URL:https://mhc1977.org/event/50th-reunion-planning-forum/
LOCATION:MA
END:VEVENT
BEGIN:VEVENT
DTSTART;TZID=Asia/Dubai:20260224T200000
DTEND;TZID=Asia/Dubai:20260224T213000
DTSTAMP:20260419T201210
CREATED:20260107T171251Z
LAST-MODIFIED:20260108T182720Z
UID:54982-1771963200-1771968600@mhc1977.org
SUMMARY:50th Reunion Planning Forum (Everyone Invited)
DESCRIPTION:Our Reunion chairs would like to offer an early opportunity to connect live as a class. To make it\neasier for classmates across time zones and schedules\, we will offer the same session at\ntwo different times. Please join whichever works best for you. These will be\nopportunities to see familiar faces\, share thoughts and ideas\, ask questions about reunion\nplanning or committee work\, and simply reconnect. Link \nJoin Zoom Meeting\nhttps://mtholyoke.zoom.us/j/96466294926?pwd=O3SqAyoP2wxyfaaos8ioiuNjqJacPV.1 \nMeeting ID: 964 6629 4926\nPasscode: 800991 \n— \nOne tap mobile\n+13017158592\,\,96466294926# US (Washington DC)\n+13052241968\,\,96466294926# US
URL:https://mhc1977.org/event/reunion-planning-forum-everyone-invited/
LOCATION:MA
END:VEVENT
END:VCALENDAR