BEGIN:VCALENDAR
VERSION:2.0
PRODID:-//Class of 1977 - ECPv6.15.20//NONSGML v1.0//EN
CALSCALE:GREGORIAN
METHOD:PUBLISH
X-ORIGINAL-URL:https://mhc1977.org
X-WR-CALDESC:Events for Class of 1977
REFRESH-INTERVAL;VALUE=DURATION:PT1H
X-Robots-Tag:noindex
X-PUBLISHED-TTL:PT1H
BEGIN:VTIMEZONE
TZID:Asia/Dubai
BEGIN:STANDARD
TZOFFSETFROM:+0400
TZOFFSETTO:+0400
TZNAME:+04
DTSTART:20250101T000000
END:STANDARD
END:VTIMEZONE
BEGIN:VEVENT
DTSTART;VALUE=DATE:20260305
DTEND;VALUE=DATE:20260307
DTSTAMP:20260420T012334
CREATED:20260117T145827Z
LAST-MODIFIED:20260213T175042Z
UID:55019-1772668800-1772841599@mhc1977.org
SUMMARY:March4MHC Challenge: March 5–6
DESCRIPTION:You can make your gift or pledge in any of the following ways: \n\nThe March4MHC GiveCampus page \nMHC Gift Form\nPayPal\nVenmo @mountholyokefund1837 (be sure to include your name\, class year and email address.)\nMake your pledge online through the Mount Holyoke online pledge form.\nCall the Development Office at 800-642-4483
URL:https://mhc1977.org/event/march4mhc-challenge-march-5-6/
LOCATION:MA
ATTACH;FMTTYPE=image/jpeg:https://mhc1977.org/wp-content/uploads/2026/02/M4MHC_social_general_1080x1080_1.jpg
END:VEVENT
BEGIN:VEVENT
DTSTART;TZID=Asia/Dubai:20260310T190000
DTEND;TZID=Asia/Dubai:20260310T203000
DTSTAMP:20260420T012334
CREATED:20251216T203718Z
LAST-MODIFIED:20260117T145644Z
UID:54899-1773169200-1773174600@mhc1977.org
SUMMARY:Book Club: My Friends by Fredrik Backman March 10 @ & pm
DESCRIPTION:Liz Gershon is inviting you to a scheduled Zoom meeting. \nTopic: Class of 1977 Book Club Discussion \nTime: Mar 10\, 2026 07:00 PM Eastern Time (US and Canada) \nJoin Zoom Meeting \nhttps://us02web.zoom.us/j/84789603610?pwd=ZdfHMK2UiIUUdr4KajNbIR2Ti8K5Ca.1 \nMeeting ID: 847 8960 3610 \nPasscode: 521253 \nOne tap mobile \n+13092053325\,\,84789603610#\,\,\,\,*521253# US \n+13126266799\,\,84789603610#\,\,\,\,*521253# US (Chicago) \nJoin instructions \nhttps://us02web.zoom.us/meetings/84789603610/invitations?signature=tpfyddaYJ2c-s3a-QTMDrm0OHbyyGOjoKHlU0azSyKI
URL:https://mhc1977.org/event/book-club-my-friends-by-fredrik-backman/
LOCATION:MA
ATTACH;FMTTYPE=image/png:https://mhc1977.org/wp-content/uploads/2025/12/my-Friends.png
END:VEVENT
BEGIN:VEVENT
DTSTART;TZID=Asia/Dubai:20260311T160000
DTEND;TZID=Asia/Dubai:20260311T190000
DTSTAMP:20260420T012334
CREATED:20260220T150905Z
LAST-MODIFIED:20260220T150905Z
UID:55069-1773244800-1773255600@mhc1977.org
SUMMARY:Study Break for the Class of 2027 at MHC
DESCRIPTION:Wednesday\, March 11 | 4:00–7:00 pm\nStudy Break for the Class of 2027\nBlanchard\, Room 227 \nWe’ll host a relaxed drop-in gathering where students can: \n\nMake a quick craft\nEnjoy homemade cookies (we’d love it if you’d like to bake and bring some!)\nChat informally with us and one another\n\nIt’s a meaningful\, low-key way to hear what students are experiencing on campus as spring break\napproaches. We’d love to have you join us. \nBonus: The 53rd Annual Flower Show will be taking place while we’re there — a beautiful sign\nof early spring! \nA block of rooms is reserved at Willits-Hallowell for Tuesday and Wednesday nights. \nPlanning to attend the Study Break? \nPlease RSVP here:\nhttps://forms.gle/EtAuWMuUtF5Mb84d9 \nIf you’re staying overnight\, or nearby\, feel free to gather at Willits-Hallowell to join the\ndiscussion together. \nA special “Thank you” to Susan Colgan and Avice Meehan\, our Connections Class\nCommittee\, who have put together these wonderful plans to bring us together with the Class of\n2027.
URL:https://mhc1977.org/event/study-break-for-the-class-of-2027-at-mhc/
LOCATION:Mount Holyoke College\, South Hadley\, MA\, United States
END:VEVENT
BEGIN:VEVENT
DTSTART;VALUE=DATE:20270520
DTEND;VALUE=DATE:20270524
DTSTAMP:20260420T012334
CREATED:20251218T173143Z
LAST-MODIFIED:20251219T145957Z
UID:54913-1810771200-1811116799@mhc1977.org
SUMMARY:50th Reunion - May 20-23\, 2027
DESCRIPTION:
URL:https://mhc1977.org/event/50th-reunion-may-21-23-2027/
LOCATION:Mount Holyoke College\, South Hadley\, MA\, United States
ATTACH;FMTTYPE=image/png:https://mhc1977.org/wp-content/uploads/2022/07/2022-Class-Photo.png
END:VEVENT
END:VCALENDAR