BEGIN:VCALENDAR
VERSION:2.0
PRODID:-//Class of 1977 - ECPv6.15.20//NONSGML v1.0//EN
CALSCALE:GREGORIAN
METHOD:PUBLISH
X-ORIGINAL-URL:https://mhc1977.org
X-WR-CALDESC:Events for Class of 1977
REFRESH-INTERVAL;VALUE=DURATION:PT1H
X-Robots-Tag:noindex
X-PUBLISHED-TTL:PT1H
BEGIN:VTIMEZONE
TZID:UTC
BEGIN:STANDARD
TZOFFSETFROM:+0000
TZOFFSETTO:+0000
TZNAME:UTC
DTSTART:20240101T000000
END:STANDARD
END:VTIMEZONE
BEGIN:VEVENT
DTSTART;VALUE=DATE:20250408
DTEND;VALUE=DATE:20250411
DTSTAMP:20260424T122931
CREATED:20250217T200945Z
LAST-MODIFIED:20250217T200945Z
UID:54840-1744070400-1744329599@mhc1977.org
SUMMARY:Back to Campus Mini Reunion
DESCRIPTION:
URL:https://mhc1977.org/event/back-to-campus-mini-reunion/
LOCATION:MA
END:VEVENT
END:VCALENDAR