BEGIN:VCALENDAR
VERSION:2.0
PRODID:-//Class of 1977 - ECPv6.15.20//NONSGML v1.0//EN
CALSCALE:GREGORIAN
METHOD:PUBLISH
X-ORIGINAL-URL:https://mhc1977.org
X-WR-CALDESC:Events for Class of 1977
REFRESH-INTERVAL;VALUE=DURATION:PT1H
X-Robots-Tag:noindex
X-PUBLISHED-TTL:PT1H
BEGIN:VTIMEZONE
TZID:America/New_York
BEGIN:DAYLIGHT
TZOFFSETFROM:-0500
TZOFFSETTO:-0400
TZNAME:EDT
DTSTART:20240310T070000
END:DAYLIGHT
BEGIN:STANDARD
TZOFFSETFROM:-0400
TZOFFSETTO:-0500
TZNAME:EST
DTSTART:20241103T060000
END:STANDARD
BEGIN:DAYLIGHT
TZOFFSETFROM:-0500
TZOFFSETTO:-0400
TZNAME:EDT
DTSTART:20250309T070000
END:DAYLIGHT
BEGIN:STANDARD
TZOFFSETFROM:-0400
TZOFFSETTO:-0500
TZNAME:EST
DTSTART:20251102T060000
END:STANDARD
BEGIN:DAYLIGHT
TZOFFSETFROM:-0500
TZOFFSETTO:-0400
TZNAME:EDT
DTSTART:20260308T070000
END:DAYLIGHT
BEGIN:STANDARD
TZOFFSETFROM:-0400
TZOFFSETTO:-0500
TZNAME:EST
DTSTART:20261101T060000
END:STANDARD
END:VTIMEZONE
BEGIN:VEVENT
DTSTART;TZID=America/New_York:20250128T120000
DTEND;TZID=America/New_York:20250128T130000
DTSTAMP:20260424T155135
CREATED:20241220T211333Z
LAST-MODIFIED:20241220T211419Z
UID:54815-1738065600-1738069200@mhc1977.org
SUMMARY:MHC’s Strategy & Campus Updates
DESCRIPTION:Please join us in the new year for a special virtual event for the alum community. President Danielle R. Holley will share the latest updates from campus and show how Mount Holyoke is leading boldly with the MHC Forward strategic plan. \nLearn firsthand about the exciting vision that is emerging for the future of our campus and how alums can get involved \nWe hope you will attend and encourage alums in your circles to join you. Register now to secure your spot and submit your questions.
URL:https://mhc1977.org/event/mhcs-strategy-campus-updates/
LOCATION:Zoom
ATTACH;FMTTYPE=image/png:https://mhc1977.org/wp-content/uploads/2024/12/MHC-Forward.png
END:VEVENT
END:VCALENDAR